BEGIN:VCALENDAR
VERSION:2.0
PRODID:-//swoogo.com//NONSGML kigkonsult.se iCalcreator 2.41.90//
CALSCALE:GREGORIAN
UID:36353936-3730-4735-b037-306666373262
BEGIN:VEVENT
UID:34755df32ba9782859139b68fd3a264efe4ea973@swoogo.com
DTSTAMP:20260421T093755Z
DESCRIPTION:
DTSTART:20250215T010000Z
DTEND:20250215T013000Z
LAST-MODIFIED:20260421T093755Z
LOCATION:Our Lady of Fatima Parish\, 4747 30 St SE\, Calgary AB T2B 3K5\, C
 anada
SEQUENCE:0
STATUS:CONFIRMED
SUMMARY:Valentines
TRANSP:OPAQUE
X-ALT-DESC:
BEGIN:VALARM
UID:34373138-3265-4961-a534-623739363331
ACTION:DISPLAY
DESCRIPTION:
TRIGGER:-PT15M
END:VALARM
END:VEVENT
END:VCALENDAR
