BEGIN:VCALENDAR
VERSION:2.0
PRODID:-//swoogo.com//NONSGML kigkonsult.se iCalcreator 2.41.90//
CALSCALE:GREGORIAN
UID:39393534-3334-4361-b436-393961613230
BEGIN:VEVENT
UID:f804bafca60707d95d41c341d8775f799c2ba35a@swoogo.com
DTSTAMP:20260421T094731Z
DESCRIPTION:Men reaching out to other men supporting others in their vocati
 ons.
DTSTART:20260314T000000Z
DTEND:20260314T213000Z
LAST-MODIFIED:20260421T094731Z
LOCATION:St. Peter's Roman Catholic Church\, 541 Silvergrove Dr NW\, Calgar
 y AB T3B 4R9\, Canada
SEQUENCE:0
STATUS:CONFIRMED
SUMMARY:God Squad Conference 2026
TRANSP:OPAQUE
X-ALT-DESC;FMTTYPE=text/html:<p>Men reaching out to other men supporting ot
 hers in their vocations.</p>
BEGIN:VALARM
UID:31633566-6339-4035-b234-643865316633
ACTION:DISPLAY
DESCRIPTION:Men reaching out to other men supporting others in their vocati
 ons.
TRIGGER:-PT15M
END:VALARM
END:VEVENT
END:VCALENDAR
